BEGIN:VCALENDAR
VERSION:2.0
PRODID:-//Meckenhausen - ECPv6.15.20//NONSGML v1.0//EN
CALSCALE:GREGORIAN
METHOD:PUBLISH
X-WR-CALNAME:Meckenhausen
X-ORIGINAL-URL:https://www.meckenhausen.com
X-WR-CALDESC:Veranstaltungen für Meckenhausen
REFRESH-INTERVAL;VALUE=DURATION:PT1H
X-Robots-Tag:noindex
X-PUBLISHED-TTL:PT1H
BEGIN:VTIMEZONE
TZID:Europe/Berlin
BEGIN:DAYLIGHT
TZOFFSETFROM:+0100
TZOFFSETTO:+0200
TZNAME:CEST
DTSTART:20250330T010000
END:DAYLIGHT
BEGIN:STANDARD
TZOFFSETFROM:+0200
TZOFFSETTO:+0100
TZNAME:CET
DTSTART:20251026T010000
END:STANDARD
BEGIN:DAYLIGHT
TZOFFSETFROM:+0100
TZOFFSETTO:+0200
TZNAME:CEST
DTSTART:20260329T010000
END:DAYLIGHT
BEGIN:STANDARD
TZOFFSETFROM:+0200
TZOFFSETTO:+0100
TZNAME:CET
DTSTART:20261025T010000
END:STANDARD
BEGIN:DAYLIGHT
TZOFFSETFROM:+0100
TZOFFSETTO:+0200
TZNAME:CEST
DTSTART:20270328T010000
END:DAYLIGHT
BEGIN:STANDARD
TZOFFSETFROM:+0200
TZOFFSETTO:+0100
TZNAME:CET
DTSTART:20271031T010000
END:STANDARD
END:VTIMEZONE
BEGIN:VEVENT
DTSTART;VALUE=DATE:20260206
DTEND;VALUE=DATE:20260227
DTSTAMP:20260422T194805
CREATED:20260129T152624Z
LAST-MODIFIED:20260207T103821Z
UID:5888-1770336000-1772150399@www.meckenhausen.com
SUMMARY:Online-Wahl: Kirchortsrat
DESCRIPTION:Link zum Wahlportal: pgr-eichstaett2026
URL:https://www.meckenhausen.com/event/online-wahl-kirchortsrat/
CATEGORIES:Pfarrgemeinde
END:VEVENT
END:VCALENDAR