BEGIN:VCALENDAR
VERSION:2.0
PRODID:-//Meckenhausen - ECPv6.15.20//NONSGML v1.0//EN
CALSCALE:GREGORIAN
METHOD:PUBLISH
X-WR-CALNAME:Meckenhausen
X-ORIGINAL-URL:https://www.meckenhausen.com
X-WR-CALDESC:Veranstaltungen für Meckenhausen
REFRESH-INTERVAL;VALUE=DURATION:PT1H
X-Robots-Tag:noindex
X-PUBLISHED-TTL:PT1H
BEGIN:VTIMEZONE
TZID:Europe/Berlin
BEGIN:DAYLIGHT
TZOFFSETFROM:+0100
TZOFFSETTO:+0200
TZNAME:CEST
DTSTART:20250330T010000
END:DAYLIGHT
BEGIN:STANDARD
TZOFFSETFROM:+0200
TZOFFSETTO:+0100
TZNAME:CET
DTSTART:20251026T010000
END:STANDARD
BEGIN:DAYLIGHT
TZOFFSETFROM:+0100
TZOFFSETTO:+0200
TZNAME:CEST
DTSTART:20260329T010000
END:DAYLIGHT
BEGIN:STANDARD
TZOFFSETFROM:+0200
TZOFFSETTO:+0100
TZNAME:CET
DTSTART:20261025T010000
END:STANDARD
BEGIN:DAYLIGHT
TZOFFSETFROM:+0100
TZOFFSETTO:+0200
TZNAME:CEST
DTSTART:20270328T010000
END:DAYLIGHT
BEGIN:STANDARD
TZOFFSETFROM:+0200
TZOFFSETTO:+0100
TZNAME:CET
DTSTART:20271031T010000
END:STANDARD
END:VTIMEZONE
BEGIN:VEVENT
DTSTART;TZID=Europe/Berlin:20260426T143000
DTEND;TZID=Europe/Berlin:20260426T163000
DTSTAMP:20260422T162216
CREATED:20260325T152406Z
LAST-MODIFIED:20260325T152406Z
UID:6058-1777213800-1777221000@www.meckenhausen.com
SUMMARY:Meck-Café und Bücherei
DESCRIPTION:Die Bücherei kann während der Öffnungszeiten des Meck-Cafés ebenfalls besucht werden.
URL:https://www.meckenhausen.com/event/meck-cafe-und-buecherei/
LOCATION:Pfarrheim Meckenhausen
CATEGORIES:Frauenbund
END:VEVENT
BEGIN:VEVENT
DTSTART;TZID=Europe/Berlin:20260430T180000
DTEND;TZID=Europe/Berlin:20260430T180000
DTSTAMP:20260422T162216
CREATED:20260418T110406Z
LAST-MODIFIED:20260418T110406Z
UID:6115-1777572000-1777572000@www.meckenhausen.com
SUMMARY:Maibaumaufstellen
DESCRIPTION:Einladung zum Maibaumaufstellen
URL:https://www.meckenhausen.com/event/maibaumaufstellen/
LOCATION:Feuerwehrhaus Meckenhausen
CATEGORIES:Feuerwehr
END:VEVENT
BEGIN:VEVENT
DTSTART;TZID=Europe/Berlin:20260506T190000
DTEND;TZID=Europe/Berlin:20260506T200000
DTSTAMP:20260422T162216
CREATED:20260110T170921Z
LAST-MODIFIED:20260419T075520Z
UID:5808-1778094000-1778097600@www.meckenhausen.com
SUMMARY:Maiandacht in Karm
DESCRIPTION:  \n \n 
URL:https://www.meckenhausen.com/event/maiandacht-in-karm/
CATEGORIES:Frauenbund
END:VEVENT
BEGIN:VEVENT
DTSTART;VALUE=DATE:20260509
DTEND;VALUE=DATE:20260510
DTSTAMP:20260422T162216
CREATED:20260110T171157Z
LAST-MODIFIED:20260418T105503Z
UID:5810-1778284800-1778371199@www.meckenhausen.com
SUMMARY:Frühjahrskonzert Musikkapelle
DESCRIPTION:
URL:https://www.meckenhausen.com/event/fruehjahrskonzert-musikkapelle/
CATEGORIES:Musikkapelle
END:VEVENT
BEGIN:VEVENT
DTSTART;VALUE=DATE:20260517
DTEND;VALUE=DATE:20260518
DTSTAMP:20260422T162216
CREATED:20260110T171733Z
LAST-MODIFIED:20260110T171733Z
UID:5812-1778976000-1779062399@www.meckenhausen.com
SUMMARY:Wanderung/SWC
DESCRIPTION:
URL:https://www.meckenhausen.com/event/wanderung-swc/
CATEGORIES:Ski- und Wanderclub
END:VEVENT
BEGIN:VEVENT
DTSTART;TZID=Europe/Berlin:20260517T143000
DTEND;TZID=Europe/Berlin:20260517T163000
DTSTAMP:20260422T162216
CREATED:20260325T152847Z
LAST-MODIFIED:20260325T152847Z
UID:6060-1779028200-1779035400@www.meckenhausen.com
SUMMARY:Meck-Café und Bücherei
DESCRIPTION:Auch die Bücherei ist während des Meck-Cafés offen.
URL:https://www.meckenhausen.com/event/meck-cafe-und-buecherei-2/
LOCATION:Pfarrheim Meckenhausen
CATEGORIES:Frauenbund
END:VEVENT
BEGIN:VEVENT
DTSTART;TZID=Europe/Berlin:20260605T193000
DTEND;TZID=Europe/Berlin:20260605T210000
DTSTAMP:20260422T162216
CREATED:20260111T123742Z
LAST-MODIFIED:20260111T123742Z
UID:5816-1780687800-1780693200@www.meckenhausen.com
SUMMARY:Konzert mit Volker Heißmann
DESCRIPTION:Introitus Interruptus – Musik\, Humor & Herz mit Volker Heißmann\n\n\n\nZum 50-jährigen Jubiläum des Katholischen Frauenbundes Meckenhausen\n\n\n\nDer Katholische Frauenbund Meckenhausen wird 50 Jahre  – und das wird natürlich gefeiert!\nUnd zwar nicht irgendwie\, sondern mit einem echten Highlight: Volker Heißmann kommt zu uns! Frankens bekanntester Komödiant zeigt an diesem Abend seine vielseitige Seite: humorvoll\, musikalisch\, berührend und ganz nah am Publikum\n\n\n\nGemeinsam mit dem Pavel Sandorf Quartett bringt er Musik in die Kirche\, die einfach Spaß macht: Klassiker von Frank Sinatra\, Udo Jürgens und Nat King Cole\, schwungvolle Gospel-Hits und natürlich auch wunderschöne Kirchenlieder.\n\n\n\nZwischen den Liedern erzählt Volker Heißmann auf seine ganz eigene\, charmante Art von seinem Glaubensweg\, von kleinen und großen Erlebnissen und den humorvollen Seiten des Lebens. Da bleibt kein Auge trocken – vor Lachen und Berührung!\n\n\n\n„Introitus Interruptus“ ist kein gewöhnliches Kirchenkonzert\, sondern ein Abend voller Lebensfreude\, Humor und Tiefgang – der perfekte Höhepunkt zum 50-jährigen Jubiläum des Frauenbundes Meckenhausen\n\n\n\nKommt vorbei\, bringt Freunde und Familie mit und feiert mit uns – mit Musik\, Spaß und ganz viel Herz!\n\n\n\n📅 Freitag\, 5. Juni 2026\n🕖 Beginn: 19:30 Uhr – Einlass 19°° Uhr\n📍 Pfarrkirche Meckenhausen A 22\n🎟️ Eintritt: 35\,00 €\n\n\n\nKartenvorverkauf: Backshop Winkler\, Meckenhausen E 9\, 91161 Hilpoltstein\n\n\n\nOnline: www.comoedie.de\n\n\n\n 
URL:https://www.meckenhausen.com/event/konzert-mit-volker-heissmann/
CATEGORIES:Frauenbund
END:VEVENT
BEGIN:VEVENT
DTSTART;VALUE=DATE:20260614
DTEND;VALUE=DATE:20260615
DTSTAMP:20260422T162216
CREATED:20260111T124912Z
LAST-MODIFIED:20260111T124912Z
UID:5824-1781395200-1781481599@www.meckenhausen.com
SUMMARY:Radtour - SWC
DESCRIPTION:
URL:https://www.meckenhausen.com/event/radtour-swc/
CATEGORIES:Ski- und Wanderclub
END:VEVENT
BEGIN:VEVENT
DTSTART;TZID=Europe/Berlin:20260618T140000
DTEND;TZID=Europe/Berlin:20260618T170000
DTSTAMP:20260422T162216
CREATED:20260111T124640Z
LAST-MODIFIED:20260111T124640Z
UID:5819-1781791200-1781802000@www.meckenhausen.com
SUMMARY:Seniorennachmittag - Musik im Pfarrgarten
DESCRIPTION:
URL:https://www.meckenhausen.com/event/seniorennachmittag-musik-im-pfarrgarten/
LOCATION:Pfarrheim Meckenhausen
CATEGORIES:Pfarrgemeinde
END:VEVENT
BEGIN:VEVENT
DTSTART;VALUE=DATE:20260620
DTEND;VALUE=DATE:20260621
DTSTAMP:20260422T162216
CREATED:20260111T124819Z
LAST-MODIFIED:20260419T080013Z
UID:5822-1781913600-1781999999@www.meckenhausen.com
SUMMARY:Tagesausflug mit OGV zum Tegernsee
DESCRIPTION:
URL:https://www.meckenhausen.com/event/tagesausflug-mit-ogv-zum-tegernsee/
CATEGORIES:Frauenbund
END:VEVENT
BEGIN:VEVENT
DTSTART;VALUE=DATE:20260626
DTEND;VALUE=DATE:20260627
DTSTAMP:20260422T162216
CREATED:20260111T125007Z
LAST-MODIFIED:20260111T125007Z
UID:5826-1782432000-1782518399@www.meckenhausen.com
SUMMARY:Johannisfeuer
DESCRIPTION:
URL:https://www.meckenhausen.com/event/johannisfeuer/
CATEGORIES:OGV
END:VEVENT
BEGIN:VEVENT
DTSTART;TZID=Europe/Berlin:20260708T180000
DTEND;TZID=Europe/Berlin:20260708T210000
DTSTAMP:20260422T162216
CREATED:20260111T125123Z
LAST-MODIFIED:20260111T125642Z
UID:5828-1783533600-1783544400@www.meckenhausen.com
SUMMARY:Radltour nach Freystadt
DESCRIPTION:
URL:https://www.meckenhausen.com/event/radltour-nach-freystadt/
CATEGORIES:Frauenbund
END:VEVENT
BEGIN:VEVENT
DTSTART;VALUE=DATE:20260717
DTEND;VALUE=DATE:20260719
DTSTAMP:20260422T162216
CREATED:20260111T125458Z
LAST-MODIFIED:20260111T125458Z
UID:5831-1784246400-1784419199@www.meckenhausen.com
SUMMARY:Kinderzeltlager SWC
DESCRIPTION:
URL:https://www.meckenhausen.com/event/kinderzeltlager-swc/
CATEGORIES:Ski- und Wanderclub
END:VEVENT
BEGIN:VEVENT
DTSTART;VALUE=DATE:20260723
DTEND;VALUE=DATE:20260724
DTSTAMP:20260422T162216
CREATED:20260111T132359Z
LAST-MODIFIED:20260111T132434Z
UID:5833-1784764800-1784851199@www.meckenhausen.com
SUMMARY:Obstbaumversteigerung
DESCRIPTION:
URL:https://www.meckenhausen.com/event/obstbaumversteigerung/
END:VEVENT
BEGIN:VEVENT
DTSTART;VALUE=DATE:20260725
DTEND;VALUE=DATE:20260726
DTSTAMP:20260422T162216
CREATED:20260111T132525Z
LAST-MODIFIED:20260111T132525Z
UID:5835-1784937600-1785023999@www.meckenhausen.com
SUMMARY:Gartenfest Musikkapelle
DESCRIPTION:
URL:https://www.meckenhausen.com/event/gartenfest-musikkapelle/
CATEGORIES:Musikkapelle
END:VEVENT
BEGIN:VEVENT
DTSTART;VALUE=DATE:20260726
DTEND;VALUE=DATE:20260727
DTSTAMP:20260422T162216
CREATED:20260111T132558Z
LAST-MODIFIED:20260111T132558Z
UID:5837-1785024000-1785110399@www.meckenhausen.com
SUMMARY:Gartenfest Musikkapelle
DESCRIPTION:
URL:https://www.meckenhausen.com/event/gartenfest-musikkapelle-2/
CATEGORIES:Musikkapelle
END:VEVENT
END:VCALENDAR