BEGIN:VCALENDAR
VERSION:2.0
PRODID:-//Meckenhausen - ECPv6.15.20//NONSGML v1.0//EN
CALSCALE:GREGORIAN
METHOD:PUBLISH
X-ORIGINAL-URL:https://www.meckenhausen.com
X-WR-CALDESC:Veranstaltungen für Meckenhausen
REFRESH-INTERVAL;VALUE=DURATION:PT1H
X-Robots-Tag:noindex
X-PUBLISHED-TTL:PT1H
BEGIN:VTIMEZONE
TZID:Europe/Berlin
BEGIN:DAYLIGHT
TZOFFSETFROM:+0100
TZOFFSETTO:+0200
TZNAME:CEST
DTSTART:20250330T010000
END:DAYLIGHT
BEGIN:STANDARD
TZOFFSETFROM:+0200
TZOFFSETTO:+0100
TZNAME:CET
DTSTART:20251026T010000
END:STANDARD
BEGIN:DAYLIGHT
TZOFFSETFROM:+0100
TZOFFSETTO:+0200
TZNAME:CEST
DTSTART:20260329T010000
END:DAYLIGHT
BEGIN:STANDARD
TZOFFSETFROM:+0200
TZOFFSETTO:+0100
TZNAME:CET
DTSTART:20261025T010000
END:STANDARD
BEGIN:DAYLIGHT
TZOFFSETFROM:+0100
TZOFFSETTO:+0200
TZNAME:CEST
DTSTART:20270328T010000
END:DAYLIGHT
BEGIN:STANDARD
TZOFFSETFROM:+0200
TZOFFSETTO:+0100
TZNAME:CET
DTSTART:20271031T010000
END:STANDARD
END:VTIMEZONE
BEGIN:VEVENT
DTSTART;VALUE=DATE:20260110
DTEND;VALUE=DATE:20260111
DTSTAMP:20260422T201924
CREATED:20260109T163108Z
LAST-MODIFIED:20260109T163108Z
UID:5733-1768003200-1768089599@www.meckenhausen.com
SUMMARY:Tages-Skifahrt
DESCRIPTION:
URL:https://www.meckenhausen.com/event/tages-skifahrt/
CATEGORIES:Ski- und Wanderclub
END:VEVENT
BEGIN:VEVENT
DTSTART;TZID=Europe/Berlin:20260115T140000
DTEND;TZID=Europe/Berlin:20260115T170000
DTSTAMP:20260422T201924
CREATED:20260109T163236Z
LAST-MODIFIED:20260109T163236Z
UID:5735-1768485600-1768496400@www.meckenhausen.com
SUMMARY:Seniorennachmittag – Jahresrückblick 2025
DESCRIPTION:
URL:https://www.meckenhausen.com/event/seniorennachmittag-jahresrueckblick-2025/
LOCATION:Pfarrheim Meckenhausen
CATEGORIES:Allgemein
END:VEVENT
BEGIN:VEVENT
DTSTART;TZID=Europe/Berlin:20260117T090000
DTEND;TZID=Europe/Berlin:20260117T100000
DTSTAMP:20260422T201924
CREATED:20260109T163337Z
LAST-MODIFIED:20260109T163337Z
UID:5737-1768640400-1768644000@www.meckenhausen.com
SUMMARY:Weintrauben-Schnittkurs
DESCRIPTION:
URL:https://www.meckenhausen.com/event/weintrauben-schnittkurs/
LOCATION:Pfarrheim Meckenhausen
CATEGORIES:OGV
END:VEVENT
BEGIN:VEVENT
DTSTART;TZID=Europe/Berlin:20260117T191100
DTEND;TZID=Europe/Berlin:20260117T191100
DTSTAMP:20260422T201924
CREATED:20260109T163428Z
LAST-MODIFIED:20260109T163428Z
UID:5739-1768677060-1768677060@www.meckenhausen.com
SUMMARY:Eröffnungsball Faschingsverein
DESCRIPTION:
URL:https://www.meckenhausen.com/event/eroeffnungsball-faschingsverein/
LOCATION:Mehrzweckhalle Meckenhausen
CATEGORIES:Faschingsverein
END:VEVENT
BEGIN:VEVENT
DTSTART;VALUE=DATE:20260120
DTEND;VALUE=DATE:20260121
DTSTAMP:20260422T201924
CREATED:20260120T143938Z
LAST-MODIFIED:20260120T143938Z
UID:5867-1768867200-1768953599@www.meckenhausen.com
SUMMARY:Bärentreiben
DESCRIPTION:
URL:https://www.meckenhausen.com/event/baerentreiben/
CATEGORIES:Faschingsverein
END:VEVENT
BEGIN:VEVENT
DTSTART;TZID=Europe/Berlin:20260122T190000
DTEND;TZID=Europe/Berlin:20260122T210000
DTSTAMP:20260422T201924
CREATED:20260110T150033Z
LAST-MODIFIED:20260110T150033Z
UID:5752-1769108400-1769115600@www.meckenhausen.com
SUMMARY:Keine Chance für Betrüger!
DESCRIPTION:Immer wieder lesen wir in der Zeitung von Schockanrufen\, aufdringlichen Haustürbesuchen\, Internetbetrug und vielen weiteren Betrugsmaschen. Doch wie erkennt man solche Betrügereien? Und wie kann man sich wirksam dagegen schützen?\n\n\n\nWer glaubt\, dieses Thema betreffe nur Seniorinnen und Senioren\, liegt falsch – Betrug kann jeden treffen\, unabhängig von Alter oder Erfahrung.\n\n\n\nPolizeihauptkommissar Stefan Michalek informiert anschaulich und praxisnah über die gängigsten Betrugsmaschen und zeigt auf\, wie man sich im Alltag richtig verhält und sich wirkungsvoll schützt. Nutzt die Gelegenheit\, Euch zu informieren\, Fragen zu stellen und Eure Sicherheit zu stärken.
URL:https://www.meckenhausen.com/event/keine-chance-fuer-betrueger/
LOCATION:Pfarrheim Meckenhausen
CATEGORIES:Frauenbund
END:VEVENT
BEGIN:VEVENT
DTSTART;TZID=Europe/Berlin:20260125T143000
DTEND;TZID=Europe/Berlin:20260125T163000
DTSTAMP:20260422T201924
CREATED:20260110T150231Z
LAST-MODIFIED:20260110T150231Z
UID:5754-1769351400-1769358600@www.meckenhausen.com
SUMMARY:Meck-Café
DESCRIPTION:
URL:https://www.meckenhausen.com/event/meck-cafe/
LOCATION:Pfarrheim Meckenhausen
CATEGORIES:Frauenbund
END:VEVENT
BEGIN:VEVENT
DTSTART;VALUE=DATE:20260131
DTEND;VALUE=DATE:20260201
DTSTAMP:20260422T201924
CREATED:20260110T150611Z
LAST-MODIFIED:20260110T151022Z
UID:5756-1769817600-1769903999@www.meckenhausen.com
SUMMARY:TSV Faschingsball
DESCRIPTION:
URL:https://www.meckenhausen.com/event/tsv-faschingsball/
LOCATION:Sportheim\, TSV Meckenhausen e.V.\, Meckenhausen F 31\, Hilpoltstein\, Bayern\, 91161\, Deutschland
CATEGORIES:TSV Meckenhausen
END:VEVENT
END:VCALENDAR