BEGIN:VCALENDAR
VERSION:2.0
PRODID:-//Meckenhausen - ECPv6.15.20//NONSGML v1.0//EN
CALSCALE:GREGORIAN
METHOD:PUBLISH
X-ORIGINAL-URL:https://www.meckenhausen.com
X-WR-CALDESC:Veranstaltungen für Meckenhausen
REFRESH-INTERVAL;VALUE=DURATION:PT1H
X-Robots-Tag:noindex
X-PUBLISHED-TTL:PT1H
BEGIN:VTIMEZONE
TZID:Europe/Berlin
BEGIN:DAYLIGHT
TZOFFSETFROM:+0100
TZOFFSETTO:+0200
TZNAME:CEST
DTSTART:20250330T010000
END:DAYLIGHT
BEGIN:STANDARD
TZOFFSETFROM:+0200
TZOFFSETTO:+0100
TZNAME:CET
DTSTART:20251026T010000
END:STANDARD
BEGIN:DAYLIGHT
TZOFFSETFROM:+0100
TZOFFSETTO:+0200
TZNAME:CEST
DTSTART:20260329T010000
END:DAYLIGHT
BEGIN:STANDARD
TZOFFSETFROM:+0200
TZOFFSETTO:+0100
TZNAME:CET
DTSTART:20261025T010000
END:STANDARD
BEGIN:DAYLIGHT
TZOFFSETFROM:+0100
TZOFFSETTO:+0200
TZNAME:CEST
DTSTART:20270328T010000
END:DAYLIGHT
BEGIN:STANDARD
TZOFFSETFROM:+0200
TZOFFSETTO:+0100
TZNAME:CET
DTSTART:20271031T010000
END:STANDARD
END:VTIMEZONE
BEGIN:VEVENT
DTSTART;TZID=Europe/Berlin:20260301T090000
DTEND;TZID=Europe/Berlin:20260301T160000
DTSTAMP:20260422T163326
CREATED:20260129T152325Z
LAST-MODIFIED:20260129T152325Z
UID:5886-1772355600-1772380800@www.meckenhausen.com
SUMMARY:Kirchortsratwahl
DESCRIPTION:
URL:https://www.meckenhausen.com/event/kirchortsratwahl-2/
LOCATION:Pfarrheim Meckenhausen
CATEGORIES:Pfarrgemeinde
END:VEVENT
BEGIN:VEVENT
DTSTART;TZID=Europe/Berlin:20260301T143000
DTEND;TZID=Europe/Berlin:20260301T163000
DTSTAMP:20260422T163326
CREATED:20260110T161342Z
LAST-MODIFIED:20260110T161342Z
UID:5773-1772375400-1772382600@www.meckenhausen.com
SUMMARY:Meck-Café
DESCRIPTION:
URL:https://www.meckenhausen.com/event/meck-cafe-2/
LOCATION:Pfarrheim Meckenhausen
CATEGORIES:Frauenbund
END:VEVENT
BEGIN:VEVENT
DTSTART;TZID=Europe/Berlin:20260301T143000
DTEND;TZID=Europe/Berlin:20260301T163000
DTSTAMP:20260422T163326
CREATED:20260205T164643Z
LAST-MODIFIED:20260205T164643Z
UID:5917-1772375400-1772382600@www.meckenhausen.com
SUMMARY:Bücherei
DESCRIPTION:Die Bücherei im Pfarrheim Meckenhausen hat  am 1. März von 14:30 bis 16:30 Uhr geöffnet
URL:https://www.meckenhausen.com/event/buecherei/
LOCATION:Pfarrheim Meckenhausen
CATEGORIES:Pfarrgemeinde
END:VEVENT
BEGIN:VEVENT
DTSTART;VALUE=DATE:20260306
DTEND;VALUE=DATE:20260307
DTSTAMP:20260422T163326
CREATED:20260110T161747Z
LAST-MODIFIED:20260110T180144Z
UID:5775-1772755200-1772841599@www.meckenhausen.com
SUMMARY:Weltgebetstag der Frauen in Pfarrkirche
DESCRIPTION:
URL:https://www.meckenhausen.com/event/weltgebetstag-der-frauen-in-pfarrkirche/
LOCATION:Pfarrkirche Meckenhausen
CATEGORIES:Frauenbund
END:VEVENT
BEGIN:VEVENT
DTSTART;VALUE=DATE:20260307
DTEND;VALUE=DATE:20260308
DTSTAMP:20260422T163326
CREATED:20260120T144703Z
LAST-MODIFIED:20260120T144703Z
UID:5869-1772841600-1772927999@www.meckenhausen.com
SUMMARY:Showtanzfestival
DESCRIPTION:Rothseehalle Allersberg
URL:https://www.meckenhausen.com/event/showtanzfestival/
CATEGORIES:Faschingsverein
END:VEVENT
BEGIN:VEVENT
DTSTART;VALUE=DATE:20260307
DTEND;VALUE=DATE:20260308
DTSTAMP:20260422T163326
CREATED:20260120T145323Z
LAST-MODIFIED:20260120T145323Z
UID:5871-1772841600-1772927999@www.meckenhausen.com
SUMMARY:Obstbaum-Schnittkurs
DESCRIPTION:
URL:https://www.meckenhausen.com/event/obstbaum-schnittkurs/
CATEGORIES:OGV
END:VEVENT
BEGIN:VEVENT
DTSTART;TZID=Europe/Berlin:20260307T183000
DTEND;TZID=Europe/Berlin:20260307T183000
DTSTAMP:20260422T163326
CREATED:20260205T165307Z
LAST-MODIFIED:20260218T151446Z
UID:5921-1772908200-1772908200@www.meckenhausen.com
SUMMARY:Jahreshauptversammlung Feuerwehr
DESCRIPTION:Einladung zur Jahreshauptversammlung \n \n 
URL:https://www.meckenhausen.com/event/jahreshauptversammlung/
LOCATION:Feuerwehrhaus Meckenhausen
CATEGORIES:Feuerwehr
END:VEVENT
BEGIN:VEVENT
DTSTART;TZID=Europe/Berlin:20260308T110000
DTEND;TZID=Europe/Berlin:20260308T140000
DTSTAMP:20260422T163326
CREATED:20260126T130530Z
LAST-MODIFIED:20260126T130530Z
UID:5876-1772967600-1772978400@www.meckenhausen.com
SUMMARY:Fastenessen
DESCRIPTION:
URL:https://www.meckenhausen.com/event/fastenessen/
LOCATION:Mehrzweckhalle Meckenhausen
CATEGORIES:Pfarrgemeinde
END:VEVENT
BEGIN:VEVENT
DTSTART;TZID=Europe/Berlin:20260312T140000
DTEND;TZID=Europe/Berlin:20260312T170000
DTSTAMP:20260422T163326
CREATED:20260110T162908Z
LAST-MODIFIED:20260110T162908Z
UID:5779-1773324000-1773334800@www.meckenhausen.com
SUMMARY:Seniorennachmittag
DESCRIPTION:
URL:https://www.meckenhausen.com/event/seniorennachmittag/
LOCATION:Pfarrheim Meckenhausen
CATEGORIES:Pfarrgemeinde
END:VEVENT
BEGIN:VEVENT
DTSTART;TZID=Europe/Berlin:20260312T190000
DTEND;TZID=Europe/Berlin:20260312T210000
DTSTAMP:20260422T163326
CREATED:20260110T162310Z
LAST-MODIFIED:20260110T162310Z
UID:5777-1773342000-1773349200@www.meckenhausen.com
SUMMARY:Palmröschen binden im Pfarrheim
DESCRIPTION:
URL:https://www.meckenhausen.com/event/palmroeschen-binden-im-pfarrheim-2/
LOCATION:Pfarrheim Meckenhausen
CATEGORIES:Frauenbund
END:VEVENT
BEGIN:VEVENT
DTSTART;TZID=Europe/Berlin:20260318T190000
DTEND;TZID=Europe/Berlin:20260318T210000
DTSTAMP:20260422T163326
CREATED:20260110T163054Z
LAST-MODIFIED:20260110T163054Z
UID:5781-1773860400-1773867600@www.meckenhausen.com
SUMMARY:Palmröschen binden im Pfarrheim
DESCRIPTION:
URL:https://www.meckenhausen.com/event/palmroeschen-binden-im-pfarrheim-3/
LOCATION:Pfarrheim Meckenhausen
CATEGORIES:Frauenbund
END:VEVENT
BEGIN:VEVENT
DTSTART;TZID=Europe/Berlin:20260321T194500
DTEND;TZID=Europe/Berlin:20260321T200000
DTSTAMP:20260422T163326
CREATED:20260110T163253Z
LAST-MODIFIED:20260110T163253Z
UID:5783-1774122300-1774123200@www.meckenhausen.com
SUMMARY:Verkauf Palmröschen nach dem Gottesdienst
DESCRIPTION:
URL:https://www.meckenhausen.com/event/verkauf-palmroeschen-nach-dem-gottesdienst/
LOCATION:Pfarrkirche Meckenhausen
CATEGORIES:Frauenbund
END:VEVENT
BEGIN:VEVENT
DTSTART;TZID=Europe/Berlin:20260322T080000
DTEND;TZID=Europe/Berlin:20260322T170000
DTSTAMP:20260422T163326
CREATED:20260110T163449Z
LAST-MODIFIED:20260110T163449Z
UID:5785-1774166400-1774198800@www.meckenhausen.com
SUMMARY:Verkauf Palmröschen nach dem Gottesdienst
DESCRIPTION:
URL:https://www.meckenhausen.com/event/verkauf-palmroeschen-nach-dem-gottesdienst-2/
LOCATION:Pfarrkirche Meckenhausen
CATEGORIES:Frauenbund
END:VEVENT
BEGIN:VEVENT
DTSTART;TZID=Europe/Berlin:20260322T140000
DTEND;TZID=Europe/Berlin:20260322T163000
DTSTAMP:20260422T163326
CREATED:20260110T163849Z
LAST-MODIFIED:20260323T115345Z
UID:5789-1774188000-1774197000@www.meckenhausen.com
SUMMARY:Meck-Café
DESCRIPTION:
URL:https://www.meckenhausen.com/event/meck-cafe-3/
LOCATION:Pfarrheim Meckenhausen
CATEGORIES:Frauenbund
END:VEVENT
BEGIN:VEVENT
DTSTART;TZID=Europe/Berlin:20260328T190000
DTEND;TZID=Europe/Berlin:20260328T230000
DTSTAMP:20260422T163326
CREATED:20260110T163757Z
LAST-MODIFIED:20260110T163757Z
UID:5787-1774724400-1774738800@www.meckenhausen.com
SUMMARY:Vereinsmeisterschaft/Schützenverein
DESCRIPTION:
URL:https://www.meckenhausen.com/event/vereinsmeisterschaft-schuetzenverein/
LOCATION:Schützenheim Meckenhausen
CATEGORIES:Schützenverein
END:VEVENT
END:VCALENDAR